BEGIN:VCALENDAR
VERSION:2.0
PRODID:-//eventon.com NONSGML v1.0//EN
CALSCALE:GREGORIAN
METHOD:PUBLISH
BEGIN:VEVENT
UID:69ea3ce4f37eb
DTSTAMP:20260423T153812Z
DTSTART:20270108T173000Z
DTEND:20270108T225900Z
LOCATION:Altes Schützenhaus Rietstrasse 1\,  CH 8200 Schaffhausen
SUMMARY:Hock im Januar
DESCRIPTION:&nbsp;\nhttps://scs-sh.ch/events/hock-im-januar/
URL:https://scs-sh.ch/events/hock-im-januar/
END:VEVENT
END:VCALENDAR