BEGIN:VCALENDAR
VERSION:2.0
PRODID:-//eventon.com NONSGML v1.0//EN
CALSCALE:GREGORIAN
METHOD:PUBLISH
BEGIN:VEVENT
UID:69ea3cefb60a3
DTSTAMP:20260423T153823Z
DTSTART:20270205T173000Z
DTEND:20270205T225900Z
LOCATION:Altes Schützenhaus Rietstrasse 1\,  CH 8200 Schaffhausen
SUMMARY:Hock im Februar
DESCRIPTION:&nbsp;\nhttps://scs-sh.ch/events/hock-im-februar-2/
URL:https://scs-sh.ch/events/hock-im-februar-2/
END:VEVENT
END:VCALENDAR