BEGIN:VCALENDAR
VERSION:2.0
PRODID:-//eventon.com NONSGML v1.0//EN
CALSCALE:GREGORIAN
METHOD:PUBLISH
BEGIN:VEVENT
UID:69ea3d47c9d2e
DTSTAMP:20260423T153951Z
DTSTART:20260915T080000Z
DTEND:20260915T140000Z
LOCATION:
SUMMARY:SCS Mittagsfahrt Zürichsee
DESCRIPTION:\nhttps://scs-sh.ch/events/scs-mittagsfahrt-zuerichsee/
URL:https://scs-sh.ch/events/scs-mittagsfahrt-zuerichsee/
END:VEVENT
END:VCALENDAR