BEGIN:VCALENDAR
VERSION:2.0
PRODID:-//eventon.com NONSGML v1.0//EN
CALSCALE:GREGORIAN
METHOD:PUBLISH
BEGIN:VEVENT
UID:69ea3d797181d
DTSTAMP:20260423T154041Z
DTSTART:20260509T120000Z
DTEND:20260509T123000Z
LOCATION:
SUMMARY:Wanderung im Eschheimertal
DESCRIPTION:Weitere Informationen folgen Zeiten nicht beachten!\nhttps://sc
 s-sh.ch/events/wanderung-im-eschheimertal/
URL:https://scs-sh.ch/events/wanderung-im-eschheimertal/
END:VEVENT
END:VCALENDAR