BEGIN:VCALENDAR
VERSION:2.0
PRODID:-//eventon.com NONSGML v1.0//EN
CALSCALE:GREGORIAN
METHOD:PUBLISH
BEGIN:VEVENT
UID:69ea3d9baf523
DTSTAMP:20260423T154115Z
DTSTART:20260703T163000Z
DTEND:20260703T215900Z
LOCATION:Altes Schützenhaus Rietstrasse 1\,  CH 8200 Schaffhausen
SUMMARY:Hock im Juli
DESCRIPTION:&nbsp;\nhttps://scs-sh.ch/events/hock-im-juli/
URL:https://scs-sh.ch/events/hock-im-juli/
END:VEVENT
END:VCALENDAR