BEGIN:VCALENDAR
VERSION:2.0
PRODID:-//eventon.com NONSGML v1.0//EN
CALSCALE:GREGORIAN
METHOD:PUBLISH
BEGIN:VEVENT
UID:69ea3d41cfa98
DTSTAMP:20260423T153945Z
DTSTART:20260627T143300Z
DTEND:20260627T215900Z
LOCATION:
SUMMARY:Grill in Mammern
DESCRIPTION:Grill in Mammern\nhttps://scs-sh.ch/events/grill-in-mammern/
URL:https://scs-sh.ch/events/grill-in-mammern/
END:VEVENT
END:VCALENDAR