BEGIN:VCALENDAR
VERSION:2.0
PRODID:-//eventon.com NONSGML v1.0//EN
CALSCALE:GREGORIAN
METHOD:PUBLISH
BEGIN:VEVENT
UID:69ea3da2436fa
DTSTAMP:20260423T154122Z
DTSTART:20270305T180000Z
DTEND:20270305T225900Z
LOCATION:
SUMMARY:GV 2027
DESCRIPTION:GV 2027\nhttps://scs-sh.ch/events/gv-2027/
URL:https://scs-sh.ch/events/gv-2027/
END:VEVENT
END:VCALENDAR