BEGIN:VCALENDAR
VERSION:2.0
PRODID:-//eventon.com NONSGML v1.0//EN
CALSCALE:GREGORIAN
METHOD:PUBLISH
BEGIN:VEVENT
UID:69e73c8b700e7
DTSTAMP:20260421T085955Z
DTSTART:20260508T163000Z
DTEND:20260508T215900Z
LOCATION:
SUMMARY:Hock bei Charly - Fällt aus!
DESCRIPTION:Hock bei Charly - Fällt aus!\nhttps://scs-sh.ch/events/hock-be
 i-charly/
URL:https://scs-sh.ch/events/hock-bei-charly/
END:VEVENT
END:VCALENDAR