BEGIN:VCALENDAR
VERSION:2.0
PRODID:-//eventon.com NONSGML v1.0//EN
CALSCALE:GREGORIAN
METHOD:PUBLISH
BEGIN:VEVENT
UID:69ea3ce4f39a5
DTSTAMP:20260423T153812Z
DTSTART:20261204T173000Z
DTEND:20261204T225900Z
LOCATION:Altes Schützenhaus Rietstrasse 1\,  CH 8200 Schaffhausen
SUMMARY:Chlaushock
DESCRIPTION:&nbsp;\nhttps://scs-sh.ch/events/chlaushock/
URL:https://scs-sh.ch/events/chlaushock/
END:VEVENT
END:VCALENDAR