BEGIN:VCALENDAR
VERSION:2.0
PRODID:-//eventon.com NONSGML v1.0//EN
CALSCALE:GREGORIAN
METHOD:PUBLISH
BEGIN:VEVENT
UID:69ea3cefb5263
DTSTAMP:20260423T153823Z
DTSTART:20261106T173000Z
DTEND:20261106T225900Z
LOCATION:Altes Schützenhaus Rietstrasse 1\,  CH 8200 Schaffhausen
SUMMARY:Hock im November
DESCRIPTION:&nbsp;\nhttps://scs-sh.ch/events/hock-im-nobember/
URL:https://scs-sh.ch/events/hock-im-nobember/
END:VEVENT
END:VCALENDAR