BEGIN:VCALENDAR
VERSION:2.0
PRODID:-//eventon.com NONSGML v1.0//EN
CALSCALE:GREGORIAN
METHOD:PUBLISH
BEGIN:VEVENT
UID:69ea3cf9a1859
DTSTAMP:20260423T153833Z
DTSTART:20261002T163000Z
DTEND:20261002T215900Z
LOCATION:Altes Schützenhaus Rietstrasse 1\,  CH 8200 Schaffhausen
SUMMARY:Hock im Oktober
DESCRIPTION:&nbsp;\nhttps://scs-sh.ch/events/hock-im-oktober/
URL:https://scs-sh.ch/events/hock-im-oktober/
END:VEVENT
END:VCALENDAR