BEGIN:VCALENDAR
VERSION:2.0
PRODID:-//eventon.com NONSGML v1.0//EN
CALSCALE:GREGORIAN
METHOD:PUBLISH
BEGIN:VEVENT
UID:69ea3d4e88c47
DTSTAMP:20260423T153958Z
DTSTART:20260904T163000Z
DTEND:20260904T215900Z
LOCATION:Altes Schützenhaus Rietstrasse 1\,  CH 8200 Schaffhausen
SUMMARY:Hock im September
DESCRIPTION:&nbsp;\nhttps://scs-sh.ch/events/hock-im-september/
URL:https://scs-sh.ch/events/hock-im-september/
END:VEVENT
END:VCALENDAR