BEGIN:VCALENDAR
VERSION:2.0
PRODID:-//eventon.com NONSGML v1.0//EN
CALSCALE:GREGORIAN
METHOD:PUBLISH
BEGIN:VEVENT
UID:69ea3d0c2e2c8
DTSTAMP:20260423T153852Z
DTSTART:20260807T163000Z
DTEND:20260807T215900Z
LOCATION:Altes Schützenhaus Rietstrasse 1\,  CH 8200 Schaffhausen
SUMMARY:Hock im August
DESCRIPTION:&nbsp;\nhttps://scs-sh.ch/events/hock-im-august/
URL:https://scs-sh.ch/events/hock-im-august/
END:VEVENT
END:VCALENDAR